BEGIN:VCALENDAR
VERSION:2.0
PRODID:-// - ECPv5.12.2//NONSGML v1.0//EN
CALSCALE:GREGORIAN
METHOD:PUBLISH
X-ORIGINAL-URL:https://www.comaquilutte.fr
X-WR-CALDESC:évènements pour 
BEGIN:VTIMEZONE
TZID:Europe/Paris
BEGIN:DAYLIGHT
TZOFFSETFROM:+0100
TZOFFSETTO:+0200
TZNAME:CEST
DTSTART:20190331T010000
END:DAYLIGHT
BEGIN:STANDARD
TZOFFSETFROM:+0200
TZOFFSETTO:+0100
TZNAME:CET
DTSTART:20191027T010000
END:STANDARD
END:VTIMEZONE
BEGIN:VEVENT
DTSTART;TZID=Europe/Paris:20191021T080000
DTEND;TZID=Europe/Paris:20191023T170000
DTSTAMP:20260423T155928
CREATED:20190711T132632Z
LAST-MODIFIED:20190711T132632Z
UID:1717-1571644800-1571850000@www.comaquilutte.fr
SUMMARY:Stage Nègrepelisse
DESCRIPTION:Articles similaires
URL:https://www.comaquilutte.fr/index.php/event/stage-negrepelisse/
LOCATION:Nègrepelisse\, Nègrepelisse\, France
CATEGORIES:Lutte Féminine,Lutte Gréco,Lutte Jeune,Lutte Libre
END:VEVENT
END:VCALENDAR