BEGIN:VCALENDAR
VERSION:2.0
PRODID:-// - ECPv5.12.2//NONSGML v1.0//EN
CALSCALE:GREGORIAN
METHOD:PUBLISH
X-ORIGINAL-URL:https://www.comaquilutte.fr
X-WR-CALDESC:évènements pour 
BEGIN:VTIMEZONE
TZID:Europe/Paris
BEGIN:DAYLIGHT
TZOFFSETFROM:+0100
TZOFFSETTO:+0200
TZNAME:CEST
DTSTART:20220327T010000
END:DAYLIGHT
BEGIN:STANDARD
TZOFFSETFROM:+0200
TZOFFSETTO:+0100
TZNAME:CET
DTSTART:20221030T010000
END:STANDARD
END:VTIMEZONE
BEGIN:VEVENT
DTSTART;VALUE=DATE:20220625
DTEND;VALUE=DATE:20220626
DTSTAMP:20260424T073411
CREATED:20220603T143521Z
LAST-MODIFIED:20220603T143521Z
UID:3635-1656115200-1656201599@www.comaquilutte.fr
SUMMARY:Open France Sambo
DESCRIPTION:SAMBO SPORTIF / SAMBO COMBAT COMPETITION \nsamedi 25 juin 2022 à Claye-Souilly 77\nOPEN DE FRANCE DE SAMBO \norganisé par la Commission Sportive Nationale Sambo FFLDA. \nGratuit pour les licenciés FFLDA \nInscriptions avant le 15 juin 2022 sur sambo.idf@free.fr \n\n\n	Articles similaires
URL:https://www.comaquilutte.fr/index.php/event/open-france-sambo/
LOCATION:Claye Souilly\, Gymnase Henri Loison\, Claye Souilly\, 77410
CATEGORIES:Sambo
ATTACH;FMTTYPE=image/jpeg:https://www.comaquilutte.fr/wp-content/uploads/2022/06/OF-e1654266663253.jpg
END:VEVENT
END:VCALENDAR