BEGIN:VCALENDAR
VERSION:2.0
PRODID:-// - ECPv5.12.2//NONSGML v1.0//EN
CALSCALE:GREGORIAN
METHOD:PUBLISH
X-ORIGINAL-URL:https://www.comaquilutte.fr
X-WR-CALDESC:évènements pour 
BEGIN:VTIMEZONE
TZID:Europe/Paris
BEGIN:DAYLIGHT
TZOFFSETFROM:+0100
TZOFFSETTO:+0200
TZNAME:CEST
DTSTART:20200329T010000
END:DAYLIGHT
BEGIN:STANDARD
TZOFFSETFROM:+0200
TZOFFSETTO:+0100
TZNAME:CET
DTSTART:20201025T010000
END:STANDARD
END:VTIMEZONE
BEGIN:VEVENT
DTSTART;VALUE=DATE:20201116
DTEND;VALUE=DATE:20201117
DTSTAMP:20260423T193815
CREATED:20201118T091824Z
LAST-MODIFIED:20201118T091825Z
UID:2372-1605484800-1605571199@www.comaquilutte.fr
SUMMARY:Journée Internationale du Sambo
DESCRIPTION:Journée Internationale du Sambo \n\n\n	Articles similaires
URL:https://www.comaquilutte.fr/index.php/event/journee-internationale-du-sambo/
CATEGORIES:International,Masters/Vétérans,National,Régional,Sambo
ATTACH;FMTTYPE=image/png:https://www.comaquilutte.fr/wp-content/uploads/2020/11/2020-Journée-Internationale-du-Sambo-Sambo-Day-16-Nov-2020.png
END:VEVENT
END:VCALENDAR