BEGIN:VCALENDAR
VERSION:2.0
PRODID:-// - ECPv5.12.2//NONSGML v1.0//EN
CALSCALE:GREGORIAN
METHOD:PUBLISH
X-ORIGINAL-URL:https://www.comaquilutte.fr
X-WR-CALDESC:évènements pour 
BEGIN:VTIMEZONE
TZID:Europe/Paris
BEGIN:DAYLIGHT
TZOFFSETFROM:+0100
TZOFFSETTO:+0200
TZNAME:CEST
DTSTART:20220327T010000
END:DAYLIGHT
BEGIN:STANDARD
TZOFFSETFROM:+0200
TZOFFSETTO:+0100
TZNAME:CET
DTSTART:20221030T010000
END:STANDARD
END:VTIMEZONE
BEGIN:VEVENT
DTSTART;TZID=Europe/Paris:20220122T100000
DTEND;TZID=Europe/Paris:20220122T123000
DTSTAMP:20260423T212151
CREATED:20220108T104129Z
LAST-MODIFIED:20220108T114653Z
UID:3438-1642845600-1642854600@www.comaquilutte.fr
SUMMARY:Entrainement collectif 100% féminin
DESCRIPTION:Un entrainement collectif 100% féminin est organisé par le comité régional de Nouvelle-Aquitaine le samedi 22 janvier de 10H à 12H30 à la salle de lutte de Cenon (3 Rue Aristide Briand 33150 Cenon). \nCet entrainement est ouvert au U11 (deuxième année) jusqu’au U23. Vous trouverez ci-joint une convocation. \nDeux prochains entrainements pourront avoir lieu les samedi 23 avril et samedi 18 juin dans différents départements. \nN’hésitez pas à me contacter pour plus d’informations. \nSportivement \n \nConvocation U11-U23 \n\n\n	Articles similaires
URL:https://www.comaquilutte.fr/index.php/event/entrainement-collectif-100-feminin/
LOCATION:Cenon – Salle de Lutte\, 3 rue aristide briand\, cenon\, 33150\, France
CATEGORIES:Lutte Féminine
ATTACH;FMTTYPE=image/png:https://www.comaquilutte.fr/wp-content/uploads/2022/01/100-feminin.png
END:VEVENT
END:VCALENDAR