BEGIN:VCALENDAR
VERSION:2.0
PRODID:-// - ECPv5.12.2//NONSGML v1.0//EN
CALSCALE:GREGORIAN
METHOD:PUBLISH
X-ORIGINAL-URL:https://www.comaquilutte.fr
X-WR-CALDESC:évènements pour 
BEGIN:VTIMEZONE
TZID:Europe/Paris
BEGIN:DAYLIGHT
TZOFFSETFROM:+0100
TZOFFSETTO:+0200
TZNAME:CEST
DTSTART:20220327T010000
END:DAYLIGHT
BEGIN:STANDARD
TZOFFSETFROM:+0200
TZOFFSETTO:+0100
TZNAME:CET
DTSTART:20221030T010000
END:STANDARD
END:VTIMEZONE
BEGIN:VEVENT
DTSTART;TZID=Europe/Paris:20220213T090000
DTEND;TZID=Europe/Paris:20220213T190000
DTSTAMP:20260424T004325
CREATED:20220108T112755Z
LAST-MODIFIED:20220109T101059Z
UID:3473-1644742800-1644778800@www.comaquilutte.fr
SUMMARY:Championnats de Nouvelle-Aquitaine de Sambo sportif et combat
DESCRIPTION:Les championnats régionaux de sambo auront lieu le dimanche 13 février 2022. Ils concernent les catégories U12 à masters dans les styles sportif et combat.\n\nLa compétition se déroulera  à la Salle Omnisport de Ludon –  6-10 avenue André Hertig 33290 Ludon-Médoc\nProgramme prévisionnel\n\n\nProgramme prévisionnel:\n \n09H30 à 10H00 : pesée U12\, U14\, U16\, U18\, U20\, Séniors et Masters Sambo sportif\n13H30 à 14H00 : pesée U12\, U14\, U16\, U18\, U20\, Séniors et Masters Sambo sportif\n13H30 à 14H00 : remise des récompenses des catégories du matin et pause\n15H00 à 18H00 : compétition U14\, U16\, U18\, U20\, Séniors et Masters Sambo Combat\n18H30 à 18H30 : remise des récompenses des catégories de l’après-midi.\n\n\nLes inscriptions sont obligatoire et doivent se réalisée sur l’extranet fédéral : http://www.fflutte.org\n\n\n\nEtrangers : à partir de U16\, les lutteurs étrangers peuvent participer sous la condition d’avoir 3 ans de licences (pas de conditions pour les U12 et U14)\n\n\n\n\n	Articles similaires
URL:https://www.comaquilutte.fr/index.php/event/championnats-de-nouvelle-aquitaine-de-sambo-sportif-et-combat/
LOCATION:Ludon\, 6-10 avenue André Hertig\, Ludon-Médoc\, 33290\, France
CATEGORIES:Sambo,Sambo Combat
ATTACH;FMTTYPE=image/png:https://www.comaquilutte.fr/wp-content/uploads/2022/01/2.png
END:VEVENT
END:VCALENDAR