BEGIN:VCALENDAR
VERSION:2.0
PRODID:-// - ECPv5.12.2//NONSGML v1.0//EN
CALSCALE:GREGORIAN
METHOD:PUBLISH
X-ORIGINAL-URL:https://www.comaquilutte.fr
X-WR-CALDESC:évènements pour 
BEGIN:VTIMEZONE
TZID:Europe/Paris
BEGIN:DAYLIGHT
TZOFFSETFROM:+0100
TZOFFSETTO:+0200
TZNAME:CEST
DTSTART:20220327T010000
END:DAYLIGHT
BEGIN:STANDARD
TZOFFSETFROM:+0200
TZOFFSETTO:+0100
TZNAME:CET
DTSTART:20221030T010000
END:STANDARD
END:VTIMEZONE
BEGIN:VEVENT
DTSTART;VALUE=DATE:20220604
DTEND;VALUE=DATE:20220606
DTSTAMP:20260424T021953
CREATED:20220516T082318Z
LAST-MODIFIED:20220603T144116Z
UID:3604-1654300800-1654473599@www.comaquilutte.fr
SUMMARY:Championnats de France par équipes 3e division - Coupe de l'avenir - Coupe de la jeunesse les  4 et 5 juin 2022 à Saint-Yrieix-la-Perche.
DESCRIPTION:Championnats de France par équipes 3e division – Coupe de l’avenir – Coupe de la jeunesse les  4 et 5 juin 2022 à Saint-Yrieix-la-Perche. \nVeuillez\, trouver\, en 4 pièces jointes\, la circulaire et les règlements de ces 3 championnats de France par équipes. \nLa date limite d’inscription est le 26 mai 2022. \n[PDFS] \nCirculaire_competitions 2022 D3 JEUNESSSE AVENIR Diffusion\nREGLEMENT_COUPE_AVENIR 2022\nREGLEMENT_COUPE_JEUNESSE_2022\nREGLEMENT_DIV3_2022 \n\n\n	Articles similaires
URL:https://www.comaquilutte.fr/index.php/event/championnats-de-france-par-equipes-3e-division-coupe-de-lavenir-coupe-de-la-jeunesse-les-4-et-5-juin-2022-a-saint-yrieix-la-perche/
LOCATION:Villa Sport\, Rue du Colonel du Garreau de la Méchenie\, SAINT-YRIEIX-LA-PERCHE\, 87500
CATEGORIES:Lutte
ATTACH;FMTTYPE=image/jpeg:https://www.comaquilutte.fr/wp-content/uploads/2022/05/45-juin.jpg
END:VEVENT
END:VCALENDAR